BEGIN:VCALENDAR
VERSION:2.0
PRODID:-//173.231.231.229//NONSGML kigkonsult.se iCalcreator 2.26.9//
CALSCALE:GREGORIAN
METHOD:PUBLISH
X-FROM-URL:https://hillcountrynudists.com
X-WR-TIMEZONE:America/Chicago
BEGIN:VTIMEZONE
TZID:America/Chicago
X-LIC-LOCATION:America/Chicago
BEGIN:STANDARD
DTSTART:20251102T020000
TZOFFSETFROM:-0500
TZOFFSETTO:-0600
RDATE:20261101T020000
TZNAME:CST
END:STANDARD
BEGIN:DAYLIGHT
DTSTART:20260308T020000
TZOFFSETFROM:-0600
TZOFFSETTO:-0500
RDATE:20270314T020000
TZNAME:CDT
END:DAYLIGHT
END:VTIMEZONE
BEGIN:VEVENT
UID:ai1ec-2662@hillcountrynudists.com
DTSTAMP:20260419T142446Z
CATEGORIES;LANGUAGE=en-US:Nude Event
CONTACT:
DESCRIPTION:<div class='entry-content' itemprop='text'>\n<p>HCN Holiday Par
 ty!</p>\n<p>This years Holiday Party will be on Saturday December 16th sta
 rting at 5pm</p>\n<p>This event will be the Holiday Party and White Elepha
 nt Gift Exchange.</p>\n<p>This will be a potluck dinner.</p>\n<p>We will h
 ave our ever popular White Elephant Gift Exchange. If you wish to particip
 ate\, please bring a wrapped present valued around $20.</p>\n<p>The rules 
 of the exchange will be given at the start.</p>\n<p>More info will be in y
 our e-Mail inbox.</p>\n\n\n</div>
DTSTART;TZID=America/Chicago:20231216T170000
DTEND;TZID=America/Chicago:20231216T220000
SEQUENCE:0
SUMMARY:HCN Holiday Party/General Meeting/White Elephant Gift Exchange
URL:https://hillcountrynudists.com/event/hcn-holiday-party-general-meeting-
 white-elephant-gift-exchange/
X-COST-TYPE:free
END:VEVENT
BEGIN:VEVENT
UID:ai1ec-2412@hillcountrynudists.com
DTSTAMP:20260419T142446Z
CATEGORIES;LANGUAGE=en-US:Clothed Event\,Public Event
CONTACT:
DESCRIPTION:<div class='entry-content' itemprop='text'>\n<p>Hill Country Nu
 dists takes part in the yearly Christmas Tree Recycling Program.</p>\n<p>T
 his year we chose <strong>January 6th 9:30 am to noon.</strong></p>\n<p>We
  don’t mind being dressed for this event as it is outdoors\, cold and in p
 ublic. But we can still wear our HCN shirts!</p>\n<p>The city asks for vol
 unteers each year to help folks unload their trees from their vehicles and
  toss them onto the pile.</p>\n<p>HCN needs volunteers to help again this 
 year and we have chose<strong> January 6th from 9:30am to noon.</strong></
 p>\n<p>Please visit the link in the email and be sure to put Hill Country 
 Nudists down as your group.</p>\n\n\n</div>
DTSTART;TZID=America/Chicago:20240106T093000
DTEND;TZID=America/Chicago:20240106T120000
SEQUENCE:0
SUMMARY:Christmas Tree Recycling
URL:https://hillcountrynudists.com/event/christmas-tree-recycling/
X-COST-TYPE:free
END:VEVENT
BEGIN:VEVENT
UID:ai1ec-2688@hillcountrynudists.com
DTSTAMP:20260419T142446Z
CATEGORIES;LANGUAGE=en-US:Nude Event
CONTACT:
DESCRIPTION:<div class='entry-content' itemprop='text'>\n<p>This is a small
  gathering of folks that wish to play a little poker.</p>\n<p> </p>\n<p>So
 cial gathering at 6\, poker at 7 pm.</p>\n<p> </p>\n<p>Contact Ronny for m
 ore info.</p>\n<p> </p>\n<p>This event is in: Lago Vista</p>\n\n\n</div>
DTSTART;TZID=America/Chicago:20240405T180000
DTEND;TZID=America/Chicago:20240405T210000
SEQUENCE:0
SUMMARY:Naked Nickel Poker Night-Friday
URL:https://hillcountrynudists.com/event/naked-nickel-poker-night/
X-COST-TYPE:free
END:VEVENT
BEGIN:VEVENT
UID:ai1ec-2667@hillcountrynudists.com
DTSTAMP:20260419T142446Z
CATEGORIES;LANGUAGE=en-US:Nude Event
CONTACT:
DESCRIPTION:<div class='entry-content' itemprop='text'>\n<p>Naked Bible Stu
 dy on Saturday April 6th</p>\n<p>Please bring a Bible Verse to read and di
 scuss\, each person should bring a verse that means something to them for 
 a group discussion.</p>\n<p>This event is in Lago Vista</p>\n\n\n</div>
DTSTART;TZID=America/Chicago:20240406T130000
DTEND;TZID=America/Chicago:20240406T150000
SEQUENCE:0
SUMMARY:Naked Bible Study Group
URL:https://hillcountrynudists.com/event/nude-bible-study-group/
X-COST-TYPE:free
END:VEVENT
BEGIN:VEVENT
UID:ai1ec-2669@hillcountrynudists.com
DTSTAMP:20260419T142446Z
CATEGORIES;LANGUAGE=en-US:Clothed Event\,Public Event
CONTACT:
DESCRIPTION:<div class='entry-content' itemprop='text'>\n<p>Keep Austin Bea
 utiful will be having a city wide clean up and we will be at our creek cle
 an up section.</p>\n<p>This will be a great way to promote the club and cl
 ean up our section.</p>\n<p>More info will be coming in the email.</p>\n\n
 \n</div>
DTSTART;TZID=America/Chicago:20240420T090000
DTEND;TZID=America/Chicago:20240420T110000
SEQUENCE:0
SUMMARY:Keep Austin Beautiful Clean Up
URL:https://hillcountrynudists.com/event/keep-austin-beautiful-clean-up/
X-COST-TYPE:free
END:VEVENT
BEGIN:VEVENT
UID:ai1ec-2692@hillcountrynudists.com
DTSTAMP:20260419T142446Z
CATEGORIES;LANGUAGE=en-US:Nude Event
CONTACT:
DESCRIPTION:<div class='entry-content' itemprop='text'>\n<p>Another chance 
 to do some reading and discussion.</p>\n<p>Bring a verse to discuss.</p>\n
 <p>This event is in Lago Vista</p>\n\n\n</div>
DTSTART;TZID=America/Chicago:20240420T130000
DTEND;TZID=America/Chicago:20240420T150000
SEQUENCE:0
SUMMARY:Naked Bible Study – Part 2
URL:https://hillcountrynudists.com/event/naked-bible-study-part-2/
X-COST-TYPE:free
END:VEVENT
BEGIN:VEVENT
UID:ai1ec-2689@hillcountrynudists.com
DTSTAMP:20260419T142446Z
CATEGORIES;LANGUAGE=en-US:Nude Event
CONTACT:
DESCRIPTION:<div class='entry-content' itemprop='text'>\n<p>This is a small
  gathering of folks that wish to play a little poker.</p>\n<p> </p>\n<p>So
 cial gathering at 6\, poker at 7 pm.</p>\n<p> </p>\n<p>Contact Ronny for m
 ore info.</p>\n<p> </p>\n<p>This event is in: Pflugerville</p>\n\n\n</div>
DTSTART;TZID=America/Chicago:20240426T180000
DTEND;TZID=America/Chicago:20240426T210000
SEQUENCE:0
SUMMARY:Naked Nickel Poker Night – April 26
URL:https://hillcountrynudists.com/event/naked-nickel-poker-night-april-27/
X-COST-TYPE:free
END:VEVENT
BEGIN:VEVENT
UID:ai1ec-2696@hillcountrynudists.com
DTSTAMP:20260419T142446Z
CATEGORIES;LANGUAGE=en-US:Nude Event
CONTACT:
DESCRIPTION:<div class='entry-content' itemprop='text'>\n<p>Our host is a f
 an of solving puzzles in the <a href='https://www.geocaching.com/play'>Geo
 cache</a> world.</p>\n<p>He also likes to create them!</p>\n<p>In the back
  yard\, will be 5 sets of puzzles to solve. Guests will go out in groups t
 o try and solve the puzzles. Those who complete all 5 challenges will win 
 a prize!</p>\n<p>Bring your thinking caps as well as a potluck dish to sha
 re!</p>\n<p> </p>\n<p>More info will be in your email soon!</p>\n\n\n</div
 >
DTSTART;TZID=America/Chicago:20240525T160000
DTEND;TZID=America/Chicago:20240525T220000
SEQUENCE:0
SUMMARY:Geocache Puzzle Solving Event
URL:https://hillcountrynudists.com/event/geocache-puzzle-solving-event/
X-COST-TYPE:free
END:VEVENT
END:VCALENDAR
